BEGIN:VCALENDAR
VERSION:2.0
PRODID:-//Wisconsin Society of Radiologic Technologists | WSRT - ECPv6.15.20//NONSGML v1.0//EN
CALSCALE:GREGORIAN
METHOD:PUBLISH
X-ORIGINAL-URL:https://wsrt.net
X-WR-CALDESC:Events for Wisconsin Society of Radiologic Technologists | WSRT
REFRESH-INTERVAL;VALUE=DURATION:PT1H
X-Robots-Tag:noindex
X-PUBLISHED-TTL:PT1H
BEGIN:VTIMEZONE
TZID:America/Chicago
BEGIN:DAYLIGHT
TZOFFSETFROM:-0600
TZOFFSETTO:-0500
TZNAME:CDT
DTSTART:20240310T080000
END:DAYLIGHT
BEGIN:STANDARD
TZOFFSETFROM:-0500
TZOFFSETTO:-0600
TZNAME:CST
DTSTART:20241103T070000
END:STANDARD
BEGIN:DAYLIGHT
TZOFFSETFROM:-0600
TZOFFSETTO:-0500
TZNAME:CDT
DTSTART:20250309T080000
END:DAYLIGHT
BEGIN:STANDARD
TZOFFSETFROM:-0500
TZOFFSETTO:-0600
TZNAME:CST
DTSTART:20251102T070000
END:STANDARD
BEGIN:DAYLIGHT
TZOFFSETFROM:-0600
TZOFFSETTO:-0500
TZNAME:CDT
DTSTART:20260308T080000
END:DAYLIGHT
BEGIN:STANDARD
TZOFFSETFROM:-0500
TZOFFSETTO:-0600
TZNAME:CST
DTSTART:20261101T070000
END:STANDARD
END:VTIMEZONE
BEGIN:VEVENT
DTSTART;TZID=America/Chicago:20250717T120000
DTEND;TZID=America/Chicago:20250717T130000
DTSTAMP:20260419T121044
CREATED:20250612T011436Z
LAST-MODIFIED:20250612T013715Z
UID:10000003-1752753600-1752757200@wsrt.net
SUMMARY:WSRT Board Meeting
DESCRIPTION:Join us for our next WSRT Board Meeting — link included below! \nJoin from the meeting link\nhttps://froedtert.webex.com/froedtert/j.php?MTID=m87fcdde31d87620dd381d6417e223788 \nJoin by meeting number\nMeeting number (access code): 2491 276 3738\nMeeting password: McMJnAhJ668 \nTap to join from a mobile device (attendees only)\n+1-312-535-8110\,\,24912763738## United States Toll (Chicago)\n+1-415-655-0003\,\,24912763738## United States Toll \nJoin by phone\n+1-312-535-8110 United States Toll (Chicago)\n+1-415-655-0003 United States Toll\nGlobal call-in numbers \nJoin from a video system or application\nDial 24912763738@froedtert.webex.com\nYou can also dial 173.243.2.68 and enter your meeting number.
URL:https://wsrt.net/event/wsrt-board-meeting/
END:VEVENT
END:VCALENDAR