BEGIN:VCALENDAR
VERSION:2.0
PRODID:-//Wisconsin Society of Radiologic Technologists | WSRT - ECPv6.15.20//NONSGML v1.0//EN
CALSCALE:GREGORIAN
METHOD:PUBLISH
X-WR-CALNAME:Wisconsin Society of Radiologic Technologists | WSRT
X-ORIGINAL-URL:https://wsrt.net
X-WR-CALDESC:Events for Wisconsin Society of Radiologic Technologists | WSRT
REFRESH-INTERVAL;VALUE=DURATION:PT1H
X-Robots-Tag:noindex
X-PUBLISHED-TTL:PT1H
BEGIN:VTIMEZONE
TZID:America/Chicago
BEGIN:DAYLIGHT
TZOFFSETFROM:-0600
TZOFFSETTO:-0500
TZNAME:CDT
DTSTART:20240310T080000
END:DAYLIGHT
BEGIN:STANDARD
TZOFFSETFROM:-0500
TZOFFSETTO:-0600
TZNAME:CST
DTSTART:20241103T070000
END:STANDARD
BEGIN:DAYLIGHT
TZOFFSETFROM:-0600
TZOFFSETTO:-0500
TZNAME:CDT
DTSTART:20250309T080000
END:DAYLIGHT
BEGIN:STANDARD
TZOFFSETFROM:-0500
TZOFFSETTO:-0600
TZNAME:CST
DTSTART:20251102T070000
END:STANDARD
BEGIN:DAYLIGHT
TZOFFSETFROM:-0600
TZOFFSETTO:-0500
TZNAME:CDT
DTSTART:20260308T080000
END:DAYLIGHT
BEGIN:STANDARD
TZOFFSETFROM:-0500
TZOFFSETTO:-0600
TZNAME:CST
DTSTART:20261101T070000
END:STANDARD
BEGIN:DAYLIGHT
TZOFFSETFROM:-0600
TZOFFSETTO:-0500
TZNAME:CDT
DTSTART:20270314T080000
END:DAYLIGHT
BEGIN:STANDARD
TZOFFSETFROM:-0500
TZOFFSETTO:-0600
TZNAME:CST
DTSTART:20271107T070000
END:STANDARD
END:VTIMEZONE
BEGIN:VEVENT
DTSTART;TZID=America/Chicago:20251106T180000
DTEND;TZID=America/Chicago:20251106T210000
DTSTAMP:20260419T152643
CREATED:20250910T205825Z
LAST-MODIFIED:20250922T012549Z
UID:10000004-1762452000-1762462800@wsrt.net
SUMMARY:Fall Virtual Conference
DESCRIPTION:Please join us for our Fall Virtual Conference on Thursday\, November 6th\, from 6:00 to 9:00 p.m. This event will be held virtually and is FREE for all WSRT members and all students. If you are not a member\, there is a $10 registration fee. The event includes 3 approved ASRT credits! \n6:00 p.m.\nWelcome \n6:05 p.m. – 6:55 p.m.\nXray Inspection in WI – what to know and expect\nJenny Wunn RT(R) | Radiation Safety Specialist \n7:00 p.m. – 7:55 p.m.\nIn the Footsteps of Roentgen: History\, Innovation\, and the Future of Radiology\nJenna Vavra MSRIS\, BA\, RT(R)(M)(CT)(MR) | Clinical Coordinator \n8:00 p.m. – 8:55 p.m.\nLittle Patients\, Big Challenges: Pediatric Imaging Made Easier\nDavid Artis-Demick BS RT(R) and Kyle Wanie BS RT(R) & Sarah Yogerst BS RT(R) \nRegister Now
URL:https://wsrt.net/event/fall-virtual-conference-2025/
END:VEVENT
BEGIN:VEVENT
DTSTART;VALUE=DATE:20260329
DTEND;VALUE=DATE:20260401
DTSTAMP:20260419T152643
CREATED:20260120T193738Z
LAST-MODIFIED:20260120T193738Z
UID:10000005-1774742400-1775001599@wsrt.net
SUMMARY:WSRT Annual Conference/WAERT Student Symposium
DESCRIPTION:Find information about the WSRT Annual Conference & WAERT Student Symposium on our Conference page. \nRegister Now
URL:https://wsrt.net/event/wsrt-annual-conference-2026/
END:VEVENT
BEGIN:VEVENT
DTSTART;TZID=America/Chicago:20261105T180000
DTEND;TZID=America/Chicago:20261105T210000
DTSTAMP:20260419T152643
CREATED:20260408T160052Z
LAST-MODIFIED:20260408T160052Z
UID:10000006-1793901600-1793912400@wsrt.net
SUMMARY:Fall Virtual Conference
DESCRIPTION:Please join us for our Fall Virtual Conference on Thursday\, November 5th\, from 6:00 to 9:00 p.m. This event will be held virtually and is FREE for all WSRT members and all students. If you are not a member\, there is a $10 registration fee.
URL:https://wsrt.net/event/fall-virtual-conference-2026/
END:VEVENT
END:VCALENDAR